BEGIN:VCALENDAR
VERSION:2.0
PRODID:-//ChamberMaster//Event Calendar 2.0//EN
METHOD:PUBLISH
X-PUBLISHED-TTL:P1H
REFRESH-INTERVAL:P1H
CALSCALE:GREGORIAN
BEGIN:VTIMEZONE
TZID:America/Chicago
BEGIN:DAYLIGHT
RRULE:FREQ=YEARLY;BYMONTH=3;BYDAY=2SU
DTSTART:20070101T000000
TZOFFSETFROM:-0600
TZOFFSETTO:-0500
TZNAME:Central Daylight Time
END:DAYLIGHT
BEGIN:STANDARD
RRULE:FREQ=YEARLY;BYMONTH=11;BYDAY=1SU
DTSTART:20070101T000000
TZOFFSETFROM:-0500
TZOFFSETTO:-0600
TZNAME:Central Standard Time
END:STANDARD
END:VTIMEZONE
BEGIN:VEVENT
DTSTART;TZID=America/Chicago:20260926T170000
DTEND;TZID=America/Chicago:20260926T220000
X-MICROSOFT-CDO-ALLDAYEVENT:FALSE
SUMMARY:Centro de Informacion's Annual GALA
DESCRIPTION:Don't miss out on this opportunity to financially support and celebrate the work of Centro de Informacion\, a 501c3 non-profit agency based in Elgin since 1972 with a mission of empowering the Latino and immigrant community to integrate effectively. This year's Gala theme is UNITING THE COMMUNITY IN JOY. Centro de Informacion will lift up community volunteer and partnership awards and hear stories of the critical impact that Centro has made in the lives of immigrant residents and the community overall.
X-ALT-DESC;FMTTYPE=text/html:Don't miss out on this opportunity to financially support and celebrate the work of Centro de Informacion\, a 501c3 non-profit agency based in Elgin since 1972 with a mission of empowering the Latino and immigrant community to integrate effectively. This year's Gala theme is UNITING THE COMMUNITY IN JOY. Centro de Informacion will lift up community volunteer and partnership awards and hear stories of the critical impact that Centro has made in the lives of immigrant residents and the community overall.
LOCATION:4800 Hoffman Blvd. Hoffman Estates IL 60192
UID:e.3108.1429685
SEQUENCE:3
DTSTAMP:20260420T101004Z
URL:https://elginareachamberofcommerceil.growthzoneapp.com/events/Details/centro-de-informacion-s-annual-gala-1691212?sourceTypeId=Hub
END:VEVENT
END:VCALENDAR
