BEGIN:VCALENDAR
VERSION:2.0
PRODID:-//ChamberMaster//Event Calendar 2.0//EN
METHOD:PUBLISH
X-PUBLISHED-TTL:P1H
REFRESH-INTERVAL:P1H
CALSCALE:GREGORIAN
BEGIN:VTIMEZONE
TZID:America/Chicago
BEGIN:DAYLIGHT
RRULE:FREQ=YEARLY;BYMONTH=3;BYDAY=2SU
DTSTART:20070101T000000
TZOFFSETFROM:-0600
TZOFFSETTO:-0500
TZNAME:Central Daylight Time
END:DAYLIGHT
BEGIN:STANDARD
RRULE:FREQ=YEARLY;BYMONTH=11;BYDAY=1SU
DTSTART:20070101T000000
TZOFFSETFROM:-0500
TZOFFSETTO:-0600
TZNAME:Central Standard Time
END:STANDARD
END:VTIMEZONE
BEGIN:VEVENT
DTSTART;TZID=America/Chicago:20260430T113000
DTEND;TZID=America/Chicago:20260430T130000
X-MICROSOFT-CDO-ALLDAYEVENT:FALSE
SUMMARY:Centro de Informacion's Annual Spring Luncheon
DESCRIPTION:Don't miss out Centro's annual community luncheon! Centro is a 501c3 nonprofit organization based in Elgin since 1972 with a mission of empowering the Latino and immigrant community to integrate effectively. Centro is a DOJ recognized agency providing free or low-cost immigration application assistance\, is the largest Illinois Welcoming Center in northern Kane County\, is an ECM member emergency food pantry and more. Our keynote for this year's luncheon is Peter Larsen. Peter Larsen is a Minneapolis-born attorney\, activist\, and public-facing academic who has been working in the area of civil rights since 2008. As a nationally sought-after commentator and presenter\, Peter will compare Operation Metro Surge with Operation Midway Blitz\, share about how leaders across various sectors have responded to immigration enforcement in Minneapolis / St. Paul\, and what community members can do endure in support of our immigrant family members and neighbors.
X-ALT-DESC;FMTTYPE=text/html:<!DOCTYPE html><html><head><title></title></head><body aria-disabled="false"><p>Don&#39\;t miss out Centro&#39\;s annual community luncheon! Centro is a 501c3 nonprofit organization based in Elgin since 1972 with a mission of empowering the Latino and immigrant community to integrate effectively. Centro is a DOJ recognized agency providing free or low-cost immigration application assistance\, is the largest Illinois Welcoming Center in northern Kane County\, is an ECM member emergency food pantry and more. Our keynote for this year&#39\;s luncheon is Peter Larsen. Peter Larsen is a Minneapolis-born attorney\, activist\, and public-facing academic who has been working in the area of civil rights since 2008. As a nationally sought-after commentator and presenter\, Peter will compare Operation Metro Surge with Operation Midway Blitz\, share about how leaders across various sectors have responded to immigration enforcement in Minneapolis / St. Paul\, and what community members can do endure in support of our immigrant family members and neighbors.</p></body></html>
LOCATION:Grand Victoria Casino 250 S Grove Avenue Elgin IL 60120
UID:e.3108.1429654
SEQUENCE:3
DTSTAMP:20260420T101004Z
URL:https://elginareachamberofcommerceil.growthzoneapp.com/events/Details/centro-de-informacion-s-annual-spring-luncheon-1691170?sourceTypeId=Hub
END:VEVENT
END:VCALENDAR
